BEGIN:VCALENDAR
VERSION:2.0
PRODID:icalendar-ruby
CALSCALE:GREGORIAN
METHOD:PUBLISH
BEGIN:VEVENT
DTSTAMP:20260420T112339Z
UID:124-480755@clydeschapelbaptist.org
DTSTART:20260425T130000Z
DTEND:20260425T180000Z
CLASS:PUBLIC
CREATED:20260418T162418
DESCRIPTION:
LAST-MODIFIED:20260418T162418
LOCATION:16657 Buffalo Road
SUMMARY:Carwash
URL;VALUE=URI:https://clydeschapelbaptist.org/events/carwash/2026-04-25
ATTACH;FILENAME=carwashCCBC.png;FMTTYPE=image/png:https://dq5pwpg1q8ru0.clo
 udfront.net/2026/04/18/20/24/17/00f38f9e-d2fa-4667-a5b8-2dd71ec708b3/carwa
 shCCBC.png
END:VEVENT
END:VCALENDAR
